BEGIN:VCALENDAR
VERSION:2.0
PRODID:-//Squarespace Inc/Squarespace 6//v6//EN
BEGIN:VEVENT
UID:5dca2c700f2f846366d5a356@squarespace.com
DTSTAMP:20191223T033554Z
DTSTART:20200215T143000Z
DTEND:20200215T170000Z
SUMMARY:SOS 1: Mawarra Public School\, Elderslie
GEO:-34.061333;150.712463
LOCATION:Mawarra Public School\, 68 MacArthur Rd\, Elderslie\, NSW\, 2570\, 
 Australia
END:VEVENT
END:VCALENDAR
