BEGIN:VCALENDAR
VERSION:2.0
PRODID:-//Squarespace Inc/Squarespace 6//v6//EN
BEGIN:VEVENT
UID:5e0032dac45b9c58a1f49d08@squarespace.com
DTSTAMP:20191223T033559Z
DTSTART:20200222T143000Z
DTEND:20200222T170000Z
SUMMARY:SOS 2: Narellan Vale Public School\, Narellan Vale
GEO:-34.055993;150.744915
LOCATION:Narellan Vale Public School\, 46 Waterworth Dr\, Narellan Vale\, N
 SW\, 2567\, Australia
END:VEVENT
END:VCALENDAR
