BEGIN:VCALENDAR
VERSION:2.0
PRODID:-//Squarespace Inc/Squarespace 6//v6//EN
BEGIN:VEVENT
UID:5e00335e6850525eab1dc86f@squarespace.com
DTSTAMP:20200226T020601Z
DTSTART:20200229T143000Z
DTEND:20200229T170000Z
SUMMARY:SOS 3: Camden South Public School\, Camden
GEO:-34.069777;150.695634
LOCATION:Camden South Public School\, 66 Old Hume Hwy\, Camden\, NSW\, 2570
 \, Australia
END:VEVENT
END:VCALENDAR
