BEGIN:VCALENDAR
VERSION:2.0
PRODID:-//Squarespace Inc/Squarespace 6//v6//EN
BEGIN:VEVENT
UID:5e0033e7b8cce867603180a8@squarespace.com
DTSTAMP:20200226T020646Z
DTSTART:20200307T143000Z
DTEND:20200307T170000Z
SUMMARY:SOS 4: Bringelly Public School\, Bringelly
GEO:-33.938352;150.730052
LOCATION:Bringelly Public School\, 1205 The Northern Rd\, Bringelly\, NSW\, 
 2556\, Australia
END:VEVENT
END:VCALENDAR
