BEGIN:VCALENDAR
VERSION:2.0
PRODID:-//Squarespace Inc/Squarespace 6//v6//EN
BEGIN:VEVENT
UID:5e0034c64c1de744ec91714d@squarespace.com
DTSTAMP:20200226T020757Z
DTSTART:20200314T133000Z
DTEND:20200314T160000Z
SUMMARY:SOS 5: Mount Annan Christian College\, Mount Annan
GEO:-34.048352;150.777002
LOCATION:Mount Annan Christian College\, 347 Narellan Rd\, Currans Hill\, N
 SW\, 2567\, Australia
END:VEVENT
END:VCALENDAR
