BEGIN:VCALENDAR
VERSION:2.0
PRODID:-//Squarespace Inc/Squarespace 6//v6//EN
BEGIN:VEVENT
UID:5e00355f4328177cde55348b@squarespace.com
DTSTAMP:20200226T021033Z
DTSTART:20200328T133000Z
DTEND:20200328T160000Z
SUMMARY:SOS 6: St Gregory's College\, Gregory Hills
GEO:-34.039462;150.78919
LOCATION:St Gregory's College\, 100 Badgally Rd\, Gregory Hills\, NSW\, 255
 7\, Australia
END:VEVENT
END:VCALENDAR
