BEGIN:VCALENDAR
VERSION:2.0
PRODID:-//Squarespace Inc/Squarespace 6//v6//EN
BEGIN:VEVENT
UID:5c8052087817f799c0dd53b4@squarespace.com
DTSTAMP:20190306T231512Z
DTSTART:20190314T233000Z
DTEND:20190315T003000Z
SUMMARY:SHOO AGM
END:VEVENT
END:VCALENDAR
