BEGIN:VCALENDAR
VERSION:2.0
PRODID:-//Squarespace Inc/Squarespace 6//v6//EN
BEGIN:VEVENT
UID:5c85a38ee4966b5f3f457aae@squarespace.com
DTSTAMP:20190320T060829Z
DTSTART:20190407T143000Z
DTEND:20190407T160000Z
SUMMARY:Highlands Forest Series 1: Soapy Flat
GEO:40.720756;-74.000761
LOCATION:Soapy Flat Road\, High Range\, NSW\, 2575\, Australia
END:VEVENT
END:VCALENDAR
