BEGIN:VCALENDAR
VERSION:2.0
PRODID:-//Squarespace Inc/Squarespace 6//v6//EN
BEGIN:VEVENT
UID:5c904525e79c709a0f33e63a@squarespace.com
DTSTAMP:20190319T212408Z
DTSTART:20190512T143000Z
DTEND:20190512T160000Z
SUMMARY:Highlands Forest Series 2: Stingray Swamp
GEO:-34.619469;150.213283
LOCATION:Kingsbury VC Rest Area\, Penrose State Forest\, Sutton Forest\, NS
 W\, Australia
END:VEVENT
END:VCALENDAR
