BEGIN:VCALENDAR
VERSION:2.0
PRODID:-//Squarespace Inc/Squarespace 6//v6//EN
BEGIN:VEVENT
UID:5c9047244e17b660b4cfb59d@squarespace.com
DTSTAMP:20190319T212424Z
DTSTART:20190616T143000Z
DTEND:20190616T160000Z
SUMMARY:Highlands Forest Series 3: William Howe Regional Park
GEO:-34.061405;150.744116
LOCATION:Mary Howe Place\, Mount Annan\, NSW\, 2567\, Australia
END:VEVENT
END:VCALENDAR
