BEGIN:VCALENDAR
VERSION:2.0
PRODID:-//Squarespace Inc/Squarespace 6//v6//EN
BEGIN:VEVENT
UID:5c907a870d9297ad99f6a10d@squarespace.com
DTSTAMP:20190711T064307Z
DTSTART:20190721T143000Z
DTEND:20190721T160000Z
SUMMARY:Highlands Forest Series 4: Appin
GEO:-34.206073;150.792818
LOCATION:Assembly off Illawarra Street\, Appin\, NSW\, 2560\, Australia
END:VEVENT
END:VCALENDAR
