BEGIN:VCALENDAR
VERSION:2.0
PRODID:-//Squarespace Inc/Squarespace 6//v6//EN
BEGIN:VEVENT
UID:5c907bd6971a186e678a425f@squarespace.com
DTSTAMP:20191028T003908Z
DTSTART:20190811T143000Z
DTEND:20190811T160000Z
SUMMARY:Highlands Forest Series 5: Boxvale Tramway
GEO:-34.438725;150.417745
LOCATION:Boxvale Road\, Woodlands\, NSW\, 2575\, Australia
END:VEVENT
END:VCALENDAR
