BEGIN:VCALENDAR
VERSION:2.0
PRODID:-//Squarespace Inc/Squarespace 6//v6//EN
BEGIN:VEVENT
UID:5dc10d1f9201e75648009998@squarespace.com
DTSTAMP:20191108T122850Z
DTSTART:20200111T140000Z
DTEND:20200111T163000Z
SUMMARY:Summer Saturdays 2: Currans Hill
GEO:-34.047183;150.766256
LOCATION:Currans Hill Dr\, Currans Hill\, NSW\, 2567\, Australia
END:VEVENT
END:VCALENDAR
