BEGIN:VCALENDAR
VERSION:2.0
PRODID:-//Squarespace Inc/Squarespace 6//v6//EN
BEGIN:VEVENT
UID:5dc347cb85130a32bc73552a@squarespace.com
DTSTAMP:20191108T115349Z
DTSTART:20200125T140000Z
DTEND:20200125T163000Z
SUMMARY:Summer Saturdays 4: Harrington Park
GEO:-34.030969;150.729274
LOCATION:Waterfront Way\, Harrington Park\, NSW\, 2567\, Australia
END:VEVENT
END:VCALENDAR
