BEGIN:VCALENDAR
VERSION:2.0
PRODID:-//Squarespace Inc/Squarespace 6//v6//EN
BEGIN:VEVENT
UID:5dc34ca82558384fef075870@squarespace.com
DTSTAMP:20200130T222543Z
DTSTART:20200201T130000Z
DTEND:20200201T153000Z
SUMMARY:Summer Saturdays 5: Camden
GEO:-34.055373;150.692719
LOCATION:Onslow Oval\, 17 Cawdor Rd\, Camden\, NSW\, 2570\, Australia
END:VEVENT
END:VCALENDAR
