BEGIN:VCALENDAR
VERSION:2.0
PRODID:-//Squarespace Inc/Squarespace 6//v6//EN
BEGIN:VEVENT
UID:5dc34addac708510fb7ccd9f@squarespace.com
DTSTAMP:20191112T035216Z
DTSTART:20200208T140000Z
DTEND:20200208T163000Z
SUMMARY:Summer Saturdays 6: Camden Riverside
GEO:-34.060968;150.700478
LOCATION:Chellaston Reserve\, 70 Chellaston St\, Camden\, NSW\, 2570\, Aust
 ralia
END:VEVENT
END:VCALENDAR
