BEGIN:VCALENDAR
VERSION:2.0
PRODID:-//Squarespace Inc/Squarespace 6//v6//EN
BEGIN:VEVENT
UID:5db638ac0bf50303d1d9b519@squarespace.com
DTSTAMP:20200101T043647Z
DTSTART:20200104T130000Z
DTEND:20200104T160000Z
SUMMARY:Summer Saturdays 1: Behind the Uni
GEO:-34.070704;150.78241
LOCATION:Main Ridge Park\, 15 University Dr\, Campbelltown\, NSW\, 2560\, A
 ustralia
END:VEVENT
END:VCALENDAR
