BEGIN:VCALENDAR
VERSION:2.0
PRODID:-//Squarespace Inc/Squarespace 6//v6//EN
BEGIN:VEVENT
UID:5dcd2922529cfd59212383b0@squarespace.com
DTSTAMP:20191115T122527Z
DTSTART:20191215T210000Z
DTEND:20191216T000000Z
SUMMARY:SHOO Christmas Party and Club Presentations
GEO:-34.0768;150.571
LOCATION:The Davii's House\, The Oaks\, NSW\, 2570\, Australia
END:VEVENT
END:VCALENDAR
