BEGIN:VCALENDAR
VERSION:2.0
PRODID:-//Squarespace Inc/Squarespace 6//v6//EN
BEGIN:VEVENT
UID:5e55d44d6212a045e9680c51@squarespace.com
DTSTAMP:20200226T021636Z
DTSTART:20200405T143000Z
DTEND:20200405T170000Z
SUMMARY:Highlands Forest Series 1: William Howe Regional Park
GEO:-34.062075;150.745291
LOCATION:25 Mary Howe Pl\, Narellan Vale\, NSW\, 2567\, Australia
END:VEVENT
END:VCALENDAR
