BEGIN:VCALENDAR
VERSION:2.0
PRODID:-//Squarespace Inc/Squarespace 6//v6//EN
BEGIN:VEVENT
UID:5e55d51709132e2873e8dcfa@squarespace.com
DTSTAMP:20200226T220306Z
DTSTART:20200531T143000Z
DTEND:20200531T143000Z
SUMMARY:Highlands Forest Series 2:  Stingray Swamp
GEO:-34.626075;150.209985
LOCATION:Penrose State Forest\, Penrose Forest Way\, Penrose\, NSW\, 2579\, 
 Australia
END:VEVENT
END:VCALENDAR
