BEGIN:VCALENDAR
VERSION:2.0
PRODID:-//Squarespace Inc/Squarespace 6//v6//EN
BEGIN:VEVENT
UID:5e55d5896212a045e9684825@squarespace.com
DTSTAMP:20200226T022412Z
DTSTART:20200614T143000Z
DTEND:20200614T170000Z
SUMMARY:Highlands Forest Series 3: Lake Alexandra
GEO:-34.446628;150.447363
LOCATION:Lake Alexandra
END:VEVENT
END:VCALENDAR
