BEGIN:VCALENDAR
VERSION:2.0
PRODID:-//Squarespace Inc/Squarespace 6//v6//EN
BEGIN:VEVENT
UID:5e56ebae7bd99159962ac9fe@squarespace.com
DTSTAMP:20200226T220827Z
DTSTART:20200726T133000Z
DTEND:20200726T160000Z
SUMMARY:MetrO League 5: Smith's Creek\, Ruse
GEO:-34.072422;150.845497
LOCATION:Ruse Community Hall\, Ruse\, NSW\, 2560\, Australia
END:VEVENT
END:VCALENDAR
