BEGIN:VCALENDAR
VERSION:2.0
PRODID:-//Squarespace Inc/Squarespace 6//v6//EN
BEGIN:VEVENT
UID:5e55d60a8ac092631bf92caa@squarespace.com
DTSTAMP:20200226T022335Z
DTSTART:20200705T143000Z
DTEND:20200705T170000Z
SUMMARY:Highlands Forest Series 4: Boxvale Tramway
GEO:-34.428764;150.41682
LOCATION:Boxvale Tramway\, Morris Rd\, Woodlands\, NSW\, 2575\, Australia
END:VEVENT
END:VCALENDAR
