BEGIN:VCALENDAR
VERSION:2.0
PRODID:-//Squarespace Inc/Squarespace 6//v6//EN
BEGIN:VEVENT
UID:5e55d719e0e38673fd505e4d@squarespace.com
DTSTAMP:20200226T022625Z
DTSTART:20200830T143000Z
DTEND:20200830T170000Z
SUMMARY:Highlands Forest Series 5: Appin
GEO:-34.199929;150.790242
LOCATION:4 Market St\, Appin\, NSW\, 2560\, Australia
END:VEVENT
END:VCALENDAR
