BEGIN:VCALENDAR
VERSION:2.0
PRODID:-//Squarespace Inc/Squarespace 6//v6//EN
BEGIN:VEVENT
UID:5e55d75ce5cda476206b58ed@squarespace.com
DTSTAMP:20200226T022743Z
DTSTART:20200920T143000Z
DTEND:20200920T170000Z
SUMMARY:Highlands Forest Series 6: Welby
GEO:-34.438295;150.428942
LOCATION:37 Meranie St\, Welby\, NSW\, 2575\, Australia
END:VEVENT
END:VCALENDAR
